BEGIN:VCALENDAR
VERSION:2.0
PRODID:-//Pamela Frank - ECPv6.5.0//NONSGML v1.0//EN
CALSCALE:GREGORIAN
METHOD:PUBLISH
X-WR-CALNAME:Pamela Frank
X-ORIGINAL-URL:https://pamelafrank.com.ar
X-WR-CALDESC:Events for Pamela Frank
REFRESH-INTERVAL;VALUE=DURATION:PT1H
X-Robots-Tag:noindex
X-PUBLISHED-TTL:PT1H
BEGIN:VTIMEZONE
TZID:America/Argentina/Buenos_Aires
BEGIN:STANDARD
TZOFFSETFROM:-0300
TZOFFSETTO:-0300
TZNAME:-03
DTSTART:20220101T000000
END:STANDARD
END:VTIMEZONE
BEGIN:VEVENT
DTSTART;TZID=America/Argentina/Buenos_Aires:20220616T180000
DTEND;TZID=America/Argentina/Buenos_Aires:20220616T220000
DTSTAMP:20260422T094151
CREATED:20220531T110955Z
LAST-MODIFIED:20220531T110955Z
UID:5955-1655402400-1655416800@pamelafrank.com.ar
SUMMARY:Seminario san Rafael Mendoza vanina
DESCRIPTION:18 a 19:30hs peques y de 20 a 22hs grandes Hidrofitnesscenter @hidrofitnesscenter \nInformes e inscripción 2604661347 o Vanina Rugoso ( 5492604482870)
URL:https://pamelafrank.com.ar/evento/seminario-san-rafael-mendoza-vanina/
LOCATION:Seminario san Rafael Mendoza vanina\, Champagnat\, San Rafael\, Mendoza\, Argentina\, San Rafael\, Mendoza
END:VEVENT
END:VCALENDAR